BEGIN:VCALENDAR
VERSION:2.0
PRODID:-//Town of Three Lakes, Oneida County, Wisconsin - ECPv6.15.17.1//NONSGML v1.0//EN
CALSCALE:GREGORIAN
METHOD:PUBLISH
X-WR-CALNAME:Town of Three Lakes, Oneida County, Wisconsin
X-ORIGINAL-URL:https://townofthreelakeswi.gov
X-WR-CALDESC:Events for Town of Three Lakes, Oneida County, Wisconsin
REFRESH-INTERVAL;VALUE=DURATION:PT1H
X-Robots-Tag:noindex
X-PUBLISHED-TTL:PT1H
BEGIN:VTIMEZONE
TZID:America/Chicago
BEGIN:DAYLIGHT
TZOFFSETFROM:-0600
TZOFFSETTO:-0500
TZNAME:CDT
DTSTART:20210314T080000
END:DAYLIGHT
BEGIN:STANDARD
TZOFFSETFROM:-0500
TZOFFSETTO:-0600
TZNAME:CST
DTSTART:20211107T070000
END:STANDARD
BEGIN:DAYLIGHT
TZOFFSETFROM:-0600
TZOFFSETTO:-0500
TZNAME:CDT
DTSTART:20220313T080000
END:DAYLIGHT
BEGIN:STANDARD
TZOFFSETFROM:-0500
TZOFFSETTO:-0600
TZNAME:CST
DTSTART:20221106T070000
END:STANDARD
BEGIN:DAYLIGHT
TZOFFSETFROM:-0600
TZOFFSETTO:-0500
TZNAME:CDT
DTSTART:20230312T080000
END:DAYLIGHT
BEGIN:STANDARD
TZOFFSETFROM:-0500
TZOFFSETTO:-0600
TZNAME:CST
DTSTART:20231105T070000
END:STANDARD
END:VTIMEZONE
BEGIN:VEVENT
DTSTART;VALUE=DATE:20220705
DTEND;VALUE=DATE:20220706
DTSTAMP:20260421T225130
CREATED:20220414T171651Z
LAST-MODIFIED:20220414T171651Z
UID:10000632-1656979200-1657065599@townofthreelakeswi.gov
SUMMARY:Town Board Regular Meeting - Will Not Be Held
DESCRIPTION:Tonight’s Town Board regular meeting will be rescheldued for July 12th
URL:https://townofthreelakeswi.gov/event/town-board-regular-meeting-will-not-be-held/
CATEGORIES:Town Board
END:VEVENT
BEGIN:VEVENT
DTSTART;TZID=America/Chicago:20220712T160000
DTEND;TZID=America/Chicago:20220712T180000
DTSTAMP:20260421T225130
CREATED:20220414T171257Z
LAST-MODIFIED:20220414T171257Z
UID:10000631-1657641600-1657648800@townofthreelakeswi.gov
SUMMARY:Board of Review
DESCRIPTION:
URL:https://townofthreelakeswi.gov/event/board-of-review-6/
CATEGORIES:Town Board
END:VEVENT
BEGIN:VEVENT
DTSTART;TZID=America/Chicago:20220713T110000
DTEND;TZID=America/Chicago:20220713T113000
DTSTAMP:20260421T225130
CREATED:20220606T201402Z
LAST-MODIFIED:20220606T201402Z
UID:10000634-1657710000-1657711800@townofthreelakeswi.gov
SUMMARY:DOT Project - Public Information Meeting
DESCRIPTION:This will be the second of seven public information meetings on DOT project #1600-28-61 (STH 32 to Vilas County line) held in our Community Meeting Room in the Municipal Building.
URL:https://townofthreelakeswi.gov/event/dot-project-public-information-meeting-2/
CATEGORIES:News & Notices
END:VEVENT
BEGIN:VEVENT
DTSTART;VALUE=DATE:20220726
DTEND;VALUE=DATE:20220727
DTSTAMP:20260421T225130
CREATED:20220624T130601Z
LAST-MODIFIED:20220624T132238Z
UID:10000641-1658793600-1658879999@townofthreelakeswi.gov
SUMMARY:In-Office Absentee Voting
DESCRIPTION:In-Office Absentee voting will be held today BY APPOINTMENT ONLY during the hours of 9:00 a.m. – 11:00 a.m. and 1:00 p.m. – 3:00 p.m.
URL:https://townofthreelakeswi.gov/event/in-office-absentee-voting-101/2022-07-26/
CATEGORIES:In-Office Absentee Voting
END:VEVENT
BEGIN:VEVENT
DTSTART;VALUE=DATE:20220727
DTEND;VALUE=DATE:20220728
DTSTAMP:20260421T225130
CREATED:20220624T130601Z
LAST-MODIFIED:20220624T132238Z
UID:10000642-1658880000-1658966399@townofthreelakeswi.gov
SUMMARY:In-Office Absentee Voting
DESCRIPTION:In-Office Absentee voting will be held today BY APPOINTMENT ONLY during the hours of 9:00 a.m. – 11:00 a.m. and 1:00 p.m. – 3:00 p.m.
URL:https://townofthreelakeswi.gov/event/in-office-absentee-voting-101/2022-07-27/
CATEGORIES:In-Office Absentee Voting
END:VEVENT
BEGIN:VEVENT
DTSTART;TZID=America/Chicago:20220727T110000
DTEND;TZID=America/Chicago:20220727T113000
DTSTAMP:20260421T225130
CREATED:20220606T201709Z
LAST-MODIFIED:20220606T201709Z
UID:10000636-1658919600-1658921400@townofthreelakeswi.gov
SUMMARY:DOT Project - Public Information Meeting
DESCRIPTION:This will be the third of seven public information meetings on DOT Project #1600-28-61 (STH 32 to Vilas County line) held in our Community Meeting Room in the Municipal Building.
URL:https://townofthreelakeswi.gov/event/dot-project-public-information-meeting-3/
CATEGORIES:News & Notices
END:VEVENT
BEGIN:VEVENT
DTSTART;VALUE=DATE:20220728
DTEND;VALUE=DATE:20220729
DTSTAMP:20260421T225130
CREATED:20220624T130601Z
LAST-MODIFIED:20220624T132238Z
UID:10000643-1658966400-1659052799@townofthreelakeswi.gov
SUMMARY:In-Office Absentee Voting
DESCRIPTION:In-Office Absentee voting will be held today BY APPOINTMENT ONLY during the hours of 9:00 a.m. – 11:00 a.m. and 1:00 p.m. – 3:00 p.m.
URL:https://townofthreelakeswi.gov/event/in-office-absentee-voting-101/2022-07-28/
CATEGORIES:In-Office Absentee Voting
END:VEVENT
BEGIN:VEVENT
DTSTART;VALUE=DATE:20220729
DTEND;VALUE=DATE:20220730
DTSTAMP:20260421T225130
CREATED:20220624T130601Z
LAST-MODIFIED:20220624T132238Z
UID:10000644-1659052800-1659139199@townofthreelakeswi.gov
SUMMARY:In-Office Absentee Voting
DESCRIPTION:In-Office Absentee voting will be held today BY APPOINTMENT ONLY during the hours of 9:00 a.m. – 11:00 a.m. and 1:00 p.m. – 3:00 p.m.
URL:https://townofthreelakeswi.gov/event/in-office-absentee-voting-101/2022-07-29/
CATEGORIES:In-Office Absentee Voting
END:VEVENT
END:VCALENDAR