BEGIN:VCALENDAR
VERSION:2.0
PRODID:-//Town of Three Lakes, Oneida County, Wisconsin - ECPv6.15.17.1//NONSGML v1.0//EN
CALSCALE:GREGORIAN
METHOD:PUBLISH
X-WR-CALNAME:Town of Three Lakes, Oneida County, Wisconsin
X-ORIGINAL-URL:https://townofthreelakeswi.gov
X-WR-CALDESC:Events for Town of Three Lakes, Oneida County, Wisconsin
REFRESH-INTERVAL;VALUE=DURATION:PT1H
X-Robots-Tag:noindex
X-PUBLISHED-TTL:PT1H
BEGIN:VTIMEZONE
TZID:America/Chicago
BEGIN:DAYLIGHT
TZOFFSETFROM:-0600
TZOFFSETTO:-0500
TZNAME:CDT
DTSTART:20180311T080000
END:DAYLIGHT
BEGIN:STANDARD
TZOFFSETFROM:-0500
TZOFFSETTO:-0600
TZNAME:CST
DTSTART:20181104T070000
END:STANDARD
BEGIN:DAYLIGHT
TZOFFSETFROM:-0600
TZOFFSETTO:-0500
TZNAME:CDT
DTSTART:20190310T080000
END:DAYLIGHT
BEGIN:STANDARD
TZOFFSETFROM:-0500
TZOFFSETTO:-0600
TZNAME:CST
DTSTART:20191103T070000
END:STANDARD
BEGIN:DAYLIGHT
TZOFFSETFROM:-0600
TZOFFSETTO:-0500
TZNAME:CDT
DTSTART:20200308T080000
END:DAYLIGHT
BEGIN:STANDARD
TZOFFSETFROM:-0500
TZOFFSETTO:-0600
TZNAME:CST
DTSTART:20201101T070000
END:STANDARD
BEGIN:DAYLIGHT
TZOFFSETFROM:-0600
TZOFFSETTO:-0500
TZNAME:CDT
DTSTART:20210314T080000
END:DAYLIGHT
BEGIN:STANDARD
TZOFFSETFROM:-0500
TZOFFSETTO:-0600
TZNAME:CST
DTSTART:20211107T070000
END:STANDARD
END:VTIMEZONE
BEGIN:VEVENT
DTSTART;VALUE=DATE:20191231
DTEND;VALUE=DATE:20200102
DTSTAMP:20260420T110444
CREATED:20191203T164022Z
LAST-MODIFIED:20191203T164022Z
UID:10000545-1577750400-1577923199@townofthreelakeswi.gov
SUMMARY:Town Office Closed
DESCRIPTION:
URL:https://townofthreelakeswi.gov/event/town-office-closed-9/
CATEGORIES:News & Notices
END:VEVENT
BEGIN:VEVENT
DTSTART;TZID=America/Chicago:20200102T100000
DTEND;TZID=America/Chicago:20200102T133000
DTSTAMP:20260420T110444
CREATED:20191203T215127Z
LAST-MODIFIED:20191203T215127Z
UID:10000551-1577959200-1577971800@townofthreelakeswi.gov
SUMMARY:Treasurer's Office Hours - Tax Collection
DESCRIPTION:
URL:https://townofthreelakeswi.gov/event/treasurers-office-hours-tax-collection-25/
CATEGORIES:Treasurer's Office Hours for Tax Collection
END:VEVENT
BEGIN:VEVENT
DTSTART;TZID=America/Chicago:20200107T100000
DTEND;TZID=America/Chicago:20200107T133000
DTSTAMP:20260420T110444
CREATED:20191203T215221Z
LAST-MODIFIED:20191203T215221Z
UID:10000552-1578391200-1578403800@townofthreelakeswi.gov
SUMMARY:Treasurer's Office Hours - Tax Collection
DESCRIPTION:
URL:https://townofthreelakeswi.gov/event/treasurers-office-hours-tax-collection-26/
CATEGORIES:Treasurer's Office Hours for Tax Collection
END:VEVENT
BEGIN:VEVENT
DTSTART;TZID=America/Chicago:20200108T100000
DTEND;TZID=America/Chicago:20200108T133000
DTSTAMP:20260420T110444
CREATED:20191203T215356Z
LAST-MODIFIED:20191203T215356Z
UID:10000553-1578477600-1578490200@townofthreelakeswi.gov
SUMMARY:Treasurer's Office Hours - Tax Collection
DESCRIPTION:
URL:https://townofthreelakeswi.gov/event/treasurers-office-hours-tax-collection-27/
CATEGORIES:Treasurer's Office Hours for Tax Collection
END:VEVENT
BEGIN:VEVENT
DTSTART;TZID=America/Chicago:20200109T100000
DTEND;TZID=America/Chicago:20200109T133000
DTSTAMP:20260420T110444
CREATED:20191203T215502Z
LAST-MODIFIED:20191203T215502Z
UID:10000554-1578564000-1578576600@townofthreelakeswi.gov
SUMMARY:Treasurer's Office Hours - Tax Collection
DESCRIPTION:
URL:https://townofthreelakeswi.gov/event/treasurers-office-hours-tax-collection-28/
CATEGORIES:Treasurer's Office Hours for Tax Collection
END:VEVENT
BEGIN:VEVENT
DTSTART;TZID=America/Chicago:20200114T100000
DTEND;TZID=America/Chicago:20200114T133000
DTSTAMP:20260420T110444
CREATED:20191203T215555Z
LAST-MODIFIED:20191203T215555Z
UID:10000555-1578996000-1579008600@townofthreelakeswi.gov
SUMMARY:Treasurer's Office Hours - Tax Collection
DESCRIPTION:
URL:https://townofthreelakeswi.gov/event/treasurers-office-hours-tax-collection-29/
CATEGORIES:Treasurer's Office Hours for Tax Collection
END:VEVENT
BEGIN:VEVENT
DTSTART;TZID=America/Chicago:20200114T130000
DTEND;TZID=America/Chicago:20200114T150000
DTSTAMP:20260420T110444
CREATED:20200114T220422Z
LAST-MODIFIED:20200114T220422Z
UID:10000588-1579006800-1579014000@townofthreelakeswi.gov
SUMMARY:In-Office Absentee Voting
DESCRIPTION:
URL:https://townofthreelakeswi.gov/event/in-office-absentee-voting-119/
CATEGORIES:In-Office Absentee Voting
END:VEVENT
BEGIN:VEVENT
DTSTART;TZID=America/Chicago:20200115T100000
DTEND;TZID=America/Chicago:20200115T133000
DTSTAMP:20260420T110444
CREATED:20191203T215645Z
LAST-MODIFIED:20191203T215645Z
UID:10000556-1579082400-1579095000@townofthreelakeswi.gov
SUMMARY:Treasurer's Office Hours - Tax Collection
DESCRIPTION:
URL:https://townofthreelakeswi.gov/event/treasurers-office-hours-tax-collection-30/
CATEGORIES:Treasurer's Office Hours for Tax Collection
END:VEVENT
BEGIN:VEVENT
DTSTART;TZID=America/Chicago:20200116T100000
DTEND;TZID=America/Chicago:20200116T133000
DTSTAMP:20260420T110444
CREATED:20191203T215739Z
LAST-MODIFIED:20191203T215739Z
UID:10000557-1579168800-1579181400@townofthreelakeswi.gov
SUMMARY:Treasurer's Office Hours - Tax Collection
DESCRIPTION:
URL:https://townofthreelakeswi.gov/event/treasurers-office-hours-tax-collection-31/
CATEGORIES:Treasurer's Office Hours for Tax Collection
END:VEVENT
BEGIN:VEVENT
DTSTART;TZID=America/Chicago:20200121T100000
DTEND;TZID=America/Chicago:20200121T133000
DTSTAMP:20260420T110444
CREATED:20191203T215825Z
LAST-MODIFIED:20191203T215825Z
UID:10000558-1579600800-1579613400@townofthreelakeswi.gov
SUMMARY:Treasurer's Office Hours - Tax Collection
DESCRIPTION:
URL:https://townofthreelakeswi.gov/event/treasurers-office-hours-tax-collection-32/
CATEGORIES:Treasurer's Office Hours for Tax Collection
END:VEVENT
BEGIN:VEVENT
DTSTART;TZID=America/Chicago:20200122T100000
DTEND;TZID=America/Chicago:20200122T133000
DTSTAMP:20260420T110444
CREATED:20191203T215924Z
LAST-MODIFIED:20191203T215924Z
UID:10000559-1579687200-1579699800@townofthreelakeswi.gov
SUMMARY:Treasurer's Office Hours - Tax Collection
DESCRIPTION:
URL:https://townofthreelakeswi.gov/event/treasurers-office-hours-tax-collection-33/
CATEGORIES:Treasurer's Office Hours for Tax Collection
END:VEVENT
BEGIN:VEVENT
DTSTART;TZID=America/Chicago:20200123T100000
DTEND;TZID=America/Chicago:20200123T133000
DTSTAMP:20260420T110444
CREATED:20191203T220015Z
LAST-MODIFIED:20191203T220015Z
UID:10000560-1579773600-1579786200@townofthreelakeswi.gov
SUMMARY:Treasurer's Office Hours - Tax Collection
DESCRIPTION:
URL:https://townofthreelakeswi.gov/event/treasurers-office-hours-tax-collection-34/
CATEGORIES:Treasurer's Office Hours for Tax Collection
END:VEVENT
BEGIN:VEVENT
DTSTART;TZID=America/Chicago:20200128T100000
DTEND;TZID=America/Chicago:20200128T133000
DTSTAMP:20260420T110444
CREATED:20191203T220107Z
LAST-MODIFIED:20191203T220107Z
UID:10000561-1580205600-1580218200@townofthreelakeswi.gov
SUMMARY:Treasurer's Office Hours - Tax Collection
DESCRIPTION:
URL:https://townofthreelakeswi.gov/event/treasurers-office-hours-tax-collection-35/
CATEGORIES:Treasurer's Office Hours for Tax Collection
END:VEVENT
BEGIN:VEVENT
DTSTART;TZID=America/Chicago:20200129T100000
DTEND;TZID=America/Chicago:20200129T133000
DTSTAMP:20260420T110444
CREATED:20191203T220156Z
LAST-MODIFIED:20191203T220156Z
UID:10000562-1580292000-1580304600@townofthreelakeswi.gov
SUMMARY:Treasurer's Office Hours - Tax Collection
DESCRIPTION:
URL:https://townofthreelakeswi.gov/event/treasurers-office-hours-tax-collection-36/
CATEGORIES:Treasurer's Office Hours for Tax Collection
END:VEVENT
BEGIN:VEVENT
DTSTART;TZID=America/Chicago:20200130T100000
DTEND;TZID=America/Chicago:20200130T133000
DTSTAMP:20260420T110444
CREATED:20191203T220242Z
LAST-MODIFIED:20191203T220242Z
UID:10000563-1580378400-1580391000@townofthreelakeswi.gov
SUMMARY:Treasurer's Office Hours - Tax Collection
DESCRIPTION:
URL:https://townofthreelakeswi.gov/event/treasurers-office-hours-tax-collection-37/
CATEGORIES:Treasurer's Office Hours for Tax Collection
END:VEVENT
BEGIN:VEVENT
DTSTART;TZID=America/Chicago:20200131T090000
DTEND;TZID=America/Chicago:20200131T103000
DTSTAMP:20260420T110444
CREATED:20191204T151613Z
LAST-MODIFIED:20191204T151613Z
UID:10000564-1580461200-1580466600@townofthreelakeswi.gov
SUMMARY:Treasurer's Office Hours - Tax Collection (FINAL DAY)
DESCRIPTION:
URL:https://townofthreelakeswi.gov/event/treasurers-office-hours-tax-collection-final-day/
CATEGORIES:Treasurer's Office Hours for Tax Collection
END:VEVENT
END:VCALENDAR