BEGIN:VCALENDAR
VERSION:2.0
PRODID:-//Town of Three Lakes, Oneida County, Wisconsin - ECPv6.15.17.1//NONSGML v1.0//EN
CALSCALE:GREGORIAN
METHOD:PUBLISH
X-WR-CALNAME:Town of Three Lakes, Oneida County, Wisconsin
X-ORIGINAL-URL:https://townofthreelakeswi.gov
X-WR-CALDESC:Events for Town of Three Lakes, Oneida County, Wisconsin
REFRESH-INTERVAL;VALUE=DURATION:PT1H
X-Robots-Tag:noindex
X-PUBLISHED-TTL:PT1H
BEGIN:VTIMEZONE
TZID:America/Chicago
BEGIN:DAYLIGHT
TZOFFSETFROM:-0600
TZOFFSETTO:-0500
TZNAME:CDT
DTSTART:20180311T080000
END:DAYLIGHT
BEGIN:STANDARD
TZOFFSETFROM:-0500
TZOFFSETTO:-0600
TZNAME:CST
DTSTART:20181104T070000
END:STANDARD
BEGIN:DAYLIGHT
TZOFFSETFROM:-0600
TZOFFSETTO:-0500
TZNAME:CDT
DTSTART:20190310T080000
END:DAYLIGHT
BEGIN:STANDARD
TZOFFSETFROM:-0500
TZOFFSETTO:-0600
TZNAME:CST
DTSTART:20191103T070000
END:STANDARD
BEGIN:DAYLIGHT
TZOFFSETFROM:-0600
TZOFFSETTO:-0500
TZNAME:CDT
DTSTART:20200308T080000
END:DAYLIGHT
BEGIN:STANDARD
TZOFFSETFROM:-0500
TZOFFSETTO:-0600
TZNAME:CST
DTSTART:20201101T070000
END:STANDARD
END:VTIMEZONE
BEGIN:VEVENT
DTSTART;TZID=America/Chicago:20190604T160000
DTEND;TZID=America/Chicago:20190604T180000
DTSTAMP:20260419T152304
CREATED:20190506T133046Z
LAST-MODIFIED:20190506T133046Z
UID:10000530-1559664000-1559671200@townofthreelakeswi.gov
SUMMARY:Board of Review
DESCRIPTION:Board of Review – June 4\, 2019; 4:00 p.m. – 6:00 p.m. \nBOR Notice
URL:https://townofthreelakeswi.gov/event/board-of-review-3/
CATEGORIES:Town Board
END:VEVENT
BEGIN:VEVENT
DTSTART;TZID=America/Chicago:20190614T183000
DTEND;TZID=America/Chicago:20190614T210000
DTSTAMP:20260419T152304
CREATED:20190423T154603Z
LAST-MODIFIED:20190423T155158Z
UID:10000353-1560537000-1560546000@townofthreelakeswi.gov
SUMMARY:Bee the Change-Pollinator Awareness
DESCRIPTION:Three Lakes Natural Resource Sub-Committee\, in conjunction with the Three Lakes Center for the Arts\, are hosting a presentation and movie on attracting bees and beneficial insects at the TLCFA tonight.
URL:https://townofthreelakeswi.gov/event/bee-the-change-pollinator-awareness-events/
CATEGORIES:News & Notices
END:VEVENT
BEGIN:VEVENT
DTSTART;TZID=America/Chicago:20190615T090000
DTEND;TZID=America/Chicago:20190615T120000
DTSTAMP:20260419T152304
CREATED:20190423T155034Z
LAST-MODIFIED:20190423T155034Z
UID:10000355-1560589200-1560600000@townofthreelakeswi.gov
SUMMARY:Bee the Change-Pollinator Awareness
DESCRIPTION:Three Lakes Natural Resources Sub-Committee\, in conjunction with the Three Lakes Historical Society\, are hosting events at the Historical Society including information on buckthorn identification\, a guided pollinator walk\, and a native wildflower sale.
URL:https://townofthreelakeswi.gov/event/bee-the-change-pollinator-awareness/
CATEGORIES:News & Notices
END:VEVENT
BEGIN:VEVENT
DTSTART;TZID=America/Chicago:20190629T130000
DTEND;TZID=America/Chicago:20190629T160000
DTSTAMP:20260419T152304
CREATED:20190614T135106Z
LAST-MODIFIED:20190614T135106Z
UID:10000532-1561813200-1561824000@townofthreelakeswi.gov
SUMMARY:Library Open House
DESCRIPTION:  \nOpen House Flyer
URL:https://townofthreelakeswi.gov/event/library-open-house/
CATEGORIES:News & Notices
END:VEVENT
END:VCALENDAR