BEGIN:VCALENDAR
VERSION:2.0
PRODID:-//Town of Three Lakes, Oneida County, Wisconsin - ECPv6.15.17.1//NONSGML v1.0//EN
CALSCALE:GREGORIAN
METHOD:PUBLISH
X-WR-CALNAME:Town of Three Lakes, Oneida County, Wisconsin
X-ORIGINAL-URL:https://townofthreelakeswi.gov
X-WR-CALDESC:Events for Town of Three Lakes, Oneida County, Wisconsin
REFRESH-INTERVAL;VALUE=DURATION:PT1H
X-Robots-Tag:noindex
X-PUBLISHED-TTL:PT1H
BEGIN:VTIMEZONE
TZID:America/Chicago
BEGIN:DAYLIGHT
TZOFFSETFROM:-0600
TZOFFSETTO:-0500
TZNAME:CDT
DTSTART:20180311T080000
END:DAYLIGHT
BEGIN:STANDARD
TZOFFSETFROM:-0500
TZOFFSETTO:-0600
TZNAME:CST
DTSTART:20181104T070000
END:STANDARD
BEGIN:DAYLIGHT
TZOFFSETFROM:-0600
TZOFFSETTO:-0500
TZNAME:CDT
DTSTART:20190310T080000
END:DAYLIGHT
BEGIN:STANDARD
TZOFFSETFROM:-0500
TZOFFSETTO:-0600
TZNAME:CST
DTSTART:20191103T070000
END:STANDARD
BEGIN:DAYLIGHT
TZOFFSETFROM:-0600
TZOFFSETTO:-0500
TZNAME:CDT
DTSTART:20200308T080000
END:DAYLIGHT
BEGIN:STANDARD
TZOFFSETFROM:-0500
TZOFFSETTO:-0600
TZNAME:CST
DTSTART:20201101T070000
END:STANDARD
END:VTIMEZONE
BEGIN:VEVENT
DTSTART;TZID=America/Chicago:20190427T100000
DTEND;TZID=America/Chicago:20190427T140000
DTSTAMP:20260419T093508
CREATED:20190327T202410Z
LAST-MODIFIED:20190327T202410Z
UID:10000349-1556359200-1556373600@townofthreelakeswi.gov
SUMMARY:Drug Take Back Event
DESCRIPTION:Prescriptions\, both controlled and non-controlled and over-the-counter medications; ointments; inhalers; patches; non-aerosol sprays; creams; vials; and pet medications will be accepted.  This event is taking place at 1733 Superior Street. Questions? Call 715-546-2211.
URL:https://townofthreelakeswi.gov/event/drug-take-back-event/
CATEGORIES:News & Notices
END:VEVENT
END:VCALENDAR