BEGIN:VCALENDAR
VERSION:2.0
PRODID:-//Town of Three Lakes, Oneida County, Wisconsin - ECPv6.15.17.1//NONSGML v1.0//EN
CALSCALE:GREGORIAN
METHOD:PUBLISH
X-WR-CALNAME:Town of Three Lakes, Oneida County, Wisconsin
X-ORIGINAL-URL:https://townofthreelakeswi.gov
X-WR-CALDESC:Events for Town of Three Lakes, Oneida County, Wisconsin
REFRESH-INTERVAL;VALUE=DURATION:PT1H
X-Robots-Tag:noindex
X-PUBLISHED-TTL:PT1H
BEGIN:VTIMEZONE
TZID:America/Chicago
BEGIN:DAYLIGHT
TZOFFSETFROM:-0600
TZOFFSETTO:-0500
TZNAME:CDT
DTSTART:20130310T080000
END:DAYLIGHT
BEGIN:STANDARD
TZOFFSETFROM:-0500
TZOFFSETTO:-0600
TZNAME:CST
DTSTART:20131103T070000
END:STANDARD
BEGIN:DAYLIGHT
TZOFFSETFROM:-0600
TZOFFSETTO:-0500
TZNAME:CDT
DTSTART:20140309T080000
END:DAYLIGHT
BEGIN:STANDARD
TZOFFSETFROM:-0500
TZOFFSETTO:-0600
TZNAME:CST
DTSTART:20141102T070000
END:STANDARD
BEGIN:DAYLIGHT
TZOFFSETFROM:-0600
TZOFFSETTO:-0500
TZNAME:CDT
DTSTART:20150308T080000
END:DAYLIGHT
BEGIN:STANDARD
TZOFFSETFROM:-0500
TZOFFSETTO:-0600
TZNAME:CST
DTSTART:20151101T070000
END:STANDARD
END:VTIMEZONE
BEGIN:VEVENT
DTSTART;TZID=America/Chicago:20140927T060000
DTEND;TZID=America/Chicago:20140927T060000
DTSTAMP:20260420T175905
CREATED:20140927T110000Z
LAST-MODIFIED:20140927T110000Z
UID:8045-1411797600-1411797600@townofthreelakeswi.gov
SUMMARY:Three Lakes Fall Classic Muskie Tournament
DESCRIPTION:Pine Isle Bar & Grill\n1261 Pine Isle Road\nThree Lakes\, 54562\n715-891-4673
URL:https://townofthreelakeswi.gov/event/three-lakes-fall-classic-muskie-tournament/
CATEGORIES:General
END:VEVENT
END:VCALENDAR