BEGIN:VCALENDAR
VERSION:2.0
PRODID:-//Town of Three Lakes, Oneida County, Wisconsin - ECPv6.15.17.1//NONSGML v1.0//EN
CALSCALE:GREGORIAN
METHOD:PUBLISH
X-WR-CALNAME:Town of Three Lakes, Oneida County, Wisconsin
X-ORIGINAL-URL:https://townofthreelakeswi.gov
X-WR-CALDESC:Events for Town of Three Lakes, Oneida County, Wisconsin
REFRESH-INTERVAL;VALUE=DURATION:PT1H
X-Robots-Tag:noindex
X-PUBLISHED-TTL:PT1H
BEGIN:VTIMEZONE
TZID:America/Chicago
BEGIN:DAYLIGHT
TZOFFSETFROM:-0600
TZOFFSETTO:-0500
TZNAME:CDT
DTSTART:20110313T080000
END:DAYLIGHT
BEGIN:STANDARD
TZOFFSETFROM:-0500
TZOFFSETTO:-0600
TZNAME:CST
DTSTART:20111106T070000
END:STANDARD
BEGIN:DAYLIGHT
TZOFFSETFROM:-0600
TZOFFSETTO:-0500
TZNAME:CDT
DTSTART:20120311T080000
END:DAYLIGHT
BEGIN:STANDARD
TZOFFSETFROM:-0500
TZOFFSETTO:-0600
TZNAME:CST
DTSTART:20121104T070000
END:STANDARD
BEGIN:DAYLIGHT
TZOFFSETFROM:-0600
TZOFFSETTO:-0500
TZNAME:CDT
DTSTART:20130310T080000
END:DAYLIGHT
BEGIN:STANDARD
TZOFFSETFROM:-0500
TZOFFSETTO:-0600
TZNAME:CST
DTSTART:20131103T070000
END:STANDARD
END:VTIMEZONE
BEGIN:VEVENT
DTSTART;VALUE=DATE:20120728
DTEND;VALUE=DATE:20120729
DTSTAMP:20260419T084727
CREATED:20120728T050000Z
LAST-MODIFIED:20120728T050000Z
UID:8192-1343433600-1343519999@townofthreelakeswi.gov
SUMMARY:American Legion Dinner/Dance
DESCRIPTION:American Legion Post \n\n\n\n\n\nSuperior Street\nThree Lakes\, WI 54562
URL:https://townofthreelakeswi.gov/event/american-legion-dinner-dance-2/
CATEGORIES:General
END:VEVENT
END:VCALENDAR